BEGIN:VCALENDAR
VERSION:2.0
PRODID:-//Pro Ecclesia - ECPv6.6.4.2//NONSGML v1.0//EN
CALSCALE:GREGORIAN
METHOD:PUBLISH
X-ORIGINAL-URL:https://proecclesia.ch
X-WR-CALDESC:Veranstaltungen für Pro Ecclesia
REFRESH-INTERVAL;VALUE=DURATION:PT1H
X-Robots-Tag:noindex
X-PUBLISHED-TTL:PT1H
BEGIN:VTIMEZONE
TZID:UTC
BEGIN:STANDARD
TZOFFSETFROM:+0000
TZOFFSETTO:+0000
TZNAME:UTC
DTSTART:20240101T000000
END:STANDARD
END:VTIMEZONE
BEGIN:VEVENT
DTSTART;TZID=UTC:20240601T091500
DTEND;TZID=UTC:20240601T150000
DTSTAMP:20260425T121257
CREATED:20240521T113536Z
LAST-MODIFIED:20240521T113536Z
UID:100004283-1717233300-1717254000@proecclesia.ch
SUMMARY:Pro Ecclesia Zentralschweiz lädt ins Kloster Baldegg ein
DESCRIPTION:Herzliche Einladung zur GV Pro Ecclesia Sektion Zentralschweiz\nvom Sa.\, 1. Juni 2024\, im Kloster Baldegg \n\nAnrede \nAuch wenn – oder gerade weil – die Unsicherheiten\, Aengste\, Kriege und Bedrohungen in den letzten Jahren noch zugenommen haben\, wenden wir uns mit unerschütterlichem Vertrauen an Gott\, der uns zu jeder Zeit seine Hilfe verspricht. Seine Pläne mit uns und der ganzen Schöpfung können auch die Eliten dieser Welt nicht durchkreuzen. Gott verlässt uns nicht\, wenn wir uns nicht von ihm abwenden. In dieser Zuversicht treffen wir uns zu unserer jährlichen Generalversammlung. \nProgramm         09.15 h         Rosenkranz in der Klosterkirche Baldegg \n09.45 h         hl. Messe in der Klosterkirche \n11.00 h         GV im Klostersaal C \n12.00 h         Mittagessen im Klosterkafi \n13.00 h         Vortrag im Klostersaal C zum Thema «Ganzheitliche Klostermedizin nach Hildegard von Bingen» als Antwort auf die One- Health-Doktrin der WHO. Referent: Stefano Rüegg\, Hildegard -Experte \nab 14.00 h    Möglichkeit zu Austausch im Klosterkafi\, Spaziergang am See etc. \nEingeladen sind alle Mitglieder der Pro Ecclesia. Wir freuen uns\, wenn Sie auch Familienmitglieder\, Freunde\, Bekannte und weitere Interessierte mitbringen. \nIch danke Ihnen zum Voraus für Ihr Interesse und freue mich auf einen anregenden Vereinsanlass. \nFreundliche Grüsse \nMonika Gegenschatz \n__________________________________________________________________________________________________________________________________________________ \nANMELDUNG \nIst fürs Mittagessen unbedingt erforderlich! \nMittagessen im Klosterkafi  bitte Zutreffendes ankreuzen: \nMenüsalat\, Hackbraten an Rahmsauce\, hausgem. Spätzli und Gemüse inkl. Mineral Fr. 26.– \nVegi-Variante: statt Fleisch Quorngeschnetzeltes an Rahmsauce \nKaffee wird gesponsert \nFr. 26.—beim Saaleingang bei Kassier Pro Ecclesia bezahlen\nzusätzliche Getränke bitte direkt bei der Bedienung begleichen. \nAnmeldungen an:  Monika Gegenschatz\, Margritenweg 2\, 6005 Luzern\, \nTel. 041 420 83 14\,\nmogemoge@bluewin.ch \n__________________________________________________________________________________________________________________________________________________ \nAnreise                  individuell / Parkplatz auf dem Klosterareal \nmit OEV                  08.32 Luzern Gl. 7 ab / 09.01 Baldegg Kloster an \noder 09.02 Luzern Gl. 10 ab / 09.31 Baldegg Kloster an\, usf. im 30-Min.-Takt \n  \nHeimreise             individuell oder \nmit OEV                  14.21 Baldegg Kloster ab / 14.58 Luzern an\n14.52 Baldegg Kloster ab / 16.28 Luzern an\, im 30-Min.-Takt
URL:https://proecclesia.ch/veranstaltung/pro-ecclesia-zentralschweiz-laedt-ins-kloster-baldegg-ein/
END:VEVENT
END:VCALENDAR