BEGIN:VCALENDAR
VERSION:2.0
PRODID:-//Pro Ecclesia - ECPv6.6.4.2//NONSGML v1.0//EN
CALSCALE:GREGORIAN
METHOD:PUBLISH
X-WR-CALNAME:Pro Ecclesia
X-ORIGINAL-URL:https://proecclesia.ch
X-WR-CALDESC:Veranstaltungen für Pro Ecclesia
REFRESH-INTERVAL;VALUE=DURATION:PT1H
X-Robots-Tag:noindex
X-PUBLISHED-TTL:PT1H
BEGIN:VTIMEZONE
TZID:UTC
BEGIN:STANDARD
TZOFFSETFROM:+0000
TZOFFSETTO:+0000
TZNAME:UTC
DTSTART:20240101T000000
END:STANDARD
END:VTIMEZONE
BEGIN:VEVENT
DTSTART;TZID=UTC:20241026T100000
DTEND;TZID=UTC:20241026T140000
DTSTAMP:20260423T194037
CREATED:20240521T114120Z
LAST-MODIFIED:20240926T084100Z
UID:100004285-1729936800-1729951200@proecclesia.ch
SUMMARY:Einkehrtag in Luzern
DESCRIPTION:10.00 Heilige Messe in der Hofkirche \n11.15 Vortrag Martin Grichting „Sendung der  Laien in Kirche und Welt“ mit anschliessender Fragerunde\,  im Pfarreisaal von St. Leodegar \n12.15 Mittagessen im Pfarreisaal
URL:https://proecclesia.ch/veranstaltung/einkehrtag-in-luzern/
END:VEVENT
END:VCALENDAR