BEGIN:VCALENDAR
VERSION:2.0
PRODID:-//Pro Ecclesia - ECPv6.6.4.2//NONSGML v1.0//EN
CALSCALE:GREGORIAN
METHOD:PUBLISH
X-WR-CALNAME:Pro Ecclesia
X-ORIGINAL-URL:https://proecclesia.ch
X-WR-CALDESC:Veranstaltungen für Pro Ecclesia
REFRESH-INTERVAL;VALUE=DURATION:PT1H
X-Robots-Tag:noindex
X-PUBLISHED-TTL:PT1H
BEGIN:VTIMEZONE
TZID:UTC
BEGIN:STANDARD
TZOFFSETFROM:+0000
TZOFFSETTO:+0000
TZNAME:UTC
DTSTART:20250101T000000
END:STANDARD
END:VTIMEZONE
BEGIN:VEVENT
DTSTART;TZID=UTC:20250621T090000
DTEND;TZID=UTC:20250621T150000
DTSTAMP:20260421T204203
CREATED:20250527T144627Z
LAST-MODIFIED:20250527T144627Z
UID:100004487-1750496400-1750518000@proecclesia.ch
SUMMARY:GV Sektion Zentralschweiz
DESCRIPTION:Einladung zur GV Sektion Zentralschweiz\nam Samstag\, 21. Juni 2025 im Kloster Baldegg \n \nWährend der Meinungskorridor in unserer Gesellschaft immer enger wird und wir laufend mit einer Weltanschauung konfrontiert werden\, verlieren wir – je nach Lebenssituation – immer mehr persönliche Freiheit. Lassen wir uns deshalb unbeirrt von Jesus leiten\, der uns versichert\, «Ich bin der Weg\, die Wahrheit und das Leben» und verspricht\, «die Wahrheit macht euch frei!» \nZur Stärkung auf diesem Weg darf ich Sie zu unserer jährlichen Generalversammlung einladen. \n  \nProgramm \n09.15 h Rosenkranz in der Klosterkirche \n10.00 h hl. Messe mit Pfr. Dr. Daniel Bühlmann \n11.15 h  GV im Klostersaal C \n12.15 h Mittagessen im Klosterkafi \n13.45 h Vortrag im Klostersaal C\nMit Referentin Frau Käthi Kaufmann-Eggler\, Präsidentin von Jugend & Familie\,  informiert eine ausgewiesene Expertin über die Angriffe an allen  Fronten auf unsere Familien\, unsere Gesellschaft und unsere Möglichkeiten\, solchen Attacken zu widerstehen und auch Familien in Not zu unterstützen. \nEnde ca. 14.45 \n 
URL:https://proecclesia.ch/veranstaltung/gv-sektion-zentralschweiz/
END:VEVENT
END:VCALENDAR