BEGIN:VCALENDAR
VERSION:2.0
PRODID:-//Pro Ecclesia - ECPv6.6.4.2//NONSGML v1.0//EN
CALSCALE:GREGORIAN
METHOD:PUBLISH
X-ORIGINAL-URL:https://proecclesia.ch
X-WR-CALDESC:Veranstaltungen für Pro Ecclesia
REFRESH-INTERVAL;VALUE=DURATION:PT1H
X-Robots-Tag:noindex
X-PUBLISHED-TTL:PT1H
BEGIN:VTIMEZONE
TZID:UTC
BEGIN:STANDARD
TZOFFSETFROM:+0000
TZOFFSETTO:+0000
TZNAME:UTC
DTSTART:20250101T000000
END:STANDARD
END:VTIMEZONE
BEGIN:VEVENT
DTSTART;TZID=UTC:20251115T140000
DTEND;TZID=UTC:20251115T160000
DTSTAMP:20260421T111916
CREATED:20250527T144353Z
LAST-MODIFIED:20250527T144353Z
UID:100004485-1763215200-1763222400@proecclesia.ch
SUMMARY:Freundeskreis Treffen
DESCRIPTION:Treffen Freundeskreis Pro Ecclesia \nReusshaus\, St. Karlistrasse 11\, Luzern
URL:https://proecclesia.ch/veranstaltung/freundeskreis-treffen-2/
END:VEVENT
END:VCALENDAR